BEGIN:VCALENDAR
VERSION:2.0
PRODID:-//Tennessee River Museum - Savannah, TN - ECPv6.3.6//NONSGML v1.0//EN
CALSCALE:GREGORIAN
METHOD:PUBLISH
X-WR-CALNAME:Tennessee River Museum - Savannah, TN
X-ORIGINAL-URL:https://www.tennesseerivermuseum.org
X-WR-CALDESC:Events for Tennessee River Museum - Savannah, TN
REFRESH-INTERVAL;VALUE=DURATION:PT1H
X-Robots-Tag:noindex
X-PUBLISHED-TTL:PT1H
BEGIN:VTIMEZONE
TZID:UTC
BEGIN:STANDARD
TZOFFSETFROM:+0000
TZOFFSETTO:+0000
TZNAME:UTC
DTSTART:20180101T000000
END:STANDARD
TZID:America/New_York
BEGIN:DAYLIGHT
TZOFFSETFROM:-0500
TZOFFSETTO:-0400
TZNAME:EDT
DTSTART:20180311T070000
END:DAYLIGHT
BEGIN:STANDARD
TZOFFSETFROM:-0400
TZOFFSETTO:-0500
TZNAME:EST
DTSTART:20181104T060000
END:STANDARD
END:VTIMEZONE
BEGIN:VEVENT
DTSTART;VALUE=DATE:20180331
DTEND;VALUE=DATE:20180409
DTSTAMP:20260421T204438
CREATED:20180320T022547Z
LAST-MODIFIED:20180320T022547Z
UID:143-1522454400-1523231999@www.tennesseerivermuseum.org
SUMMARY:156th Battle of Shiloh Anniversary Week
DESCRIPTION:
URL:https://www.tennesseerivermuseum.org/1/156th-battle-shiloh-anniversary-week/
END:VEVENT
BEGIN:VEVENT
DTSTART;TZID=America/New_York:20180321T163000
DTEND;TZID=America/New_York:20180321T173000
DTSTAMP:20260421T204438
CREATED:20180320T022156Z
LAST-MODIFIED:20180320T022156Z
UID:139-1521649800-1521653400@www.tennesseerivermuseum.org
SUMMARY:Private Reception for TN Association of Museums Annual Conference
DESCRIPTION:
URL:https://www.tennesseerivermuseum.org/1/private-reception-tn-association-museums-annual-conference/
END:VEVENT
END:VCALENDAR